BEGIN:VCALENDAR
VERSION:2.0
BEGIN:VEVENT
URL:https://sydneydragway.oztix.com.au/outlet/event/40d1d393-a898-477d-83d8-c8a2fabaf41c
DTSTART:20260814T200000Z
DTEND:20260814T200000Z
SUMMARY:The 2026 NSW Championship - Round 5
DESCRIPTION:Event details: https://sydneydragway.oztix.com.au/outlet/event/40d1d393-a898-477d-83d8-c8a2fabaf41c
LOCATION:Sydney Dragway (Eastern Creek, NSW)
END:VEVENT
END:VCALENDAR