BEGIN:VCALENDAR
VERSION:2.0
BEGIN:VEVENT
URL:https://sydneydragway.oztix.com.au/outlet/event/432e55f5-3353-4cc3-b4de-83e99f6d3c74
DTSTART:20261002T200000Z
DTEND:20261002T200000Z
SUMMARY:Naughty Corner Motorsports Presents No Mercy Competition
DESCRIPTION:Event details: https://sydneydragway.oztix.com.au/outlet/event/432e55f5-3353-4cc3-b4de-83e99f6d3c74
LOCATION:Sydney Dragway (Eastern Creek, NSW)
END:VEVENT
END:VCALENDAR