BEGIN:VCALENDAR
VERSION:2.0
BEGIN:VEVENT
URL:https://sydneydragway.oztix.com.au/outlet/event/72b08196-2b29-44f5-bef0-300edcc164a5
DTSTART:20260508T050000Z
DTEND:20260508T050000Z
SUMMARY:Friday Night Lights by Aeroflow Performance X Growl Racing
DESCRIPTION:Event details: https://sydneydragway.oztix.com.au/outlet/event/72b08196-2b29-44f5-bef0-300edcc164a5
LOCATION:Sydney Dragway (Eastern Creek, NSW)
END:VEVENT
END:VCALENDAR