BEGIN:VCALENDAR
VERSION:2.0
BEGIN:VEVENT
URL:https://sydneydragway.oztix.com.au/outlet/event/7d840480-a8c0-44d1-88d7-6525470cb5f8
DTSTART:20260429T010000Z
DTEND:20260429T010000Z
SUMMARY:Aeroflow Nitro Test & Tune
DESCRIPTION:Event details: https://sydneydragway.oztix.com.au/outlet/event/7d840480-a8c0-44d1-88d7-6525470cb5f8
LOCATION:Sydney Dragway (Eastern Creek, NSW)
END:VEVENT
END:VCALENDAR