BEGIN:VCALENDAR
VERSION:2.0
BEGIN:VEVENT
URL:https://sydneydragway.oztix.com.au/outlet/event/8c997ba2-8030-42fc-8b0b-3fe18cbc1258
DTSTART:20260627T083000Z
DTEND:20260627T083000Z
SUMMARY:Day of the Drags
DESCRIPTION:Event details: https://sydneydragway.oztix.com.au/outlet/event/8c997ba2-8030-42fc-8b0b-3fe18cbc1258
LOCATION:Sydney Dragway (Eastern Creek, NSW)
END:VEVENT
END:VCALENDAR