BEGIN:VCALENDAR
VERSION:2.0
BEGIN:VEVENT
URL:https://sydneydragway.oztix.com.au/outlet/event/d2e31a48-3a82-4274-8935-309622f06e1e
DTSTART:20260427T220000Z
DTEND:20260427T220000Z
SUMMARY:PRIVATE TRACK HIRE - Tony Defelice
DESCRIPTION:Event details: https://sydneydragway.oztix.com.au/outlet/event/d2e31a48-3a82-4274-8935-309622f06e1e
LOCATION:Sydney Dragway (Eastern Creek, NSW)
END:VEVENT
END:VCALENDAR