BEGIN:VCALENDAR
VERSION:2.0
BEGIN:VEVENT
URL:https://sydneydragway.oztix.com.au/outlet/event/dfb1d2c8-3984-4a40-949d-259dcf5ec195
DTSTART:20261016T190000Z
DTEND:20261016T190000Z
SUMMARY:The 2026 NSW Championship - Round 6
DESCRIPTION:Event details: https://sydneydragway.oztix.com.au/outlet/event/dfb1d2c8-3984-4a40-949d-259dcf5ec195
LOCATION:Sydney Dragway (Eastern Creek, NSW)
END:VEVENT
END:VCALENDAR