BEGIN:VCALENDAR
VERSION:2.0
BEGIN:VEVENT
URL:https://sydneydragway.oztix.com.au/outlet/event/e39d7e37-23dc-4bdb-b1de-b073a856dab7
DTSTART:20260522T060000Z
DTEND:20260523T110000Z
SUMMARY:MRE GT-R Festival 2026
DESCRIPTION:Event details: https://sydneydragway.oztix.com.au/outlet/event/e39d7e37-23dc-4bdb-b1de-b073a856dab7
LOCATION:Sydney Dragway (Eastern Creek, NSW)
END:VEVENT
END:VCALENDAR